BEGIN:VCALENDAR
VERSION:2.0
PRODID:-//Nottingham Schools Trust - ECPv4.6.26//NONSGML v1.0//EN
CALSCALE:GREGORIAN
METHOD:PUBLISH
X-WR-CALNAME:Nottingham Schools Trust
X-ORIGINAL-URL:http://www.nottinghamschoolstrust.org.uk
X-WR-CALDESC:Events for Nottingham Schools Trust
BEGIN:VEVENT
DTSTART;TZID=Europe/London:20240515T093000
DTEND;TZID=Europe/London:20240515T130000
DTSTAMP:20260421T151805
CREATED:20230707T092522Z
LAST-MODIFIED:20230707T092522Z
UID:9224-1715765400-1715778000@www.nottinghamschoolstrust.org.uk
SUMMARY:PREVENT Awareness Training
DESCRIPTION:To book: PREVENT Awareness Training Tickets\, Wed 15 May 2024 at 09:30 | Eventbrite \n
URL:http://www.nottinghamschoolstrust.org.uk/event/prevent-awareness-training-3/
END:VEVENT
END:VCALENDAR