BEGIN:VCALENDAR
VERSION:2.0
PRODID:-//Nottingham Schools Trust - ECPv4.6.26//NONSGML v1.0//EN
CALSCALE:GREGORIAN
METHOD:PUBLISH
X-WR-CALNAME:Nottingham Schools Trust
X-ORIGINAL-URL:http://www.nottinghamschoolstrust.org.uk
X-WR-CALDESC:Events for Nottingham Schools Trust
BEGIN:VEVENT
DTSTART;TZID=Europe/London:20250514T093000
DTEND;TZID=Europe/London:20250514T120000
DTSTAMP:20260422T221103
CREATED:20240819T111900Z
LAST-MODIFIED:20240819T111900Z
UID:10218-1747215000-1747224000@www.nottinghamschoolstrust.org.uk
SUMMARY:PREVENT Awareness Training
DESCRIPTION:To book: PREVENT Awareness Training – Events – Universe \n
URL:http://www.nottinghamschoolstrust.org.uk/event/prevent-awareness-training-6/
LOCATION:Byron House\, Maid Marian Way\, Nottingham\, NG1 6HS
END:VEVENT
END:VCALENDAR