BEGIN:VCALENDAR
VERSION:2.0
PRODID:-//Nottingham Schools Trust - ECPv4.6.26//NONSGML v1.0//EN
CALSCALE:GREGORIAN
METHOD:PUBLISH
X-WR-CALNAME:Nottingham Schools Trust
X-ORIGINAL-URL:http://www.nottinghamschoolstrust.org.uk
X-WR-CALDESC:Events for Nottingham Schools Trust
BEGIN:VEVENT
DTSTART;TZID=Europe/London:20200225T160000
DTEND;TZID=Europe/London:20200225T173000
DTSTAMP:20260425T021627
CREATED:20190827T132008Z
LAST-MODIFIED:20190827T132008Z
UID:3331-1582646400-1582651800@www.nottinghamschoolstrust.org.uk
SUMMARY:PSHE Network Meeting
DESCRIPTION:
URL:http://www.nottinghamschoolstrust.org.uk/event/pshe-network-meeting-3/
LOCATION:Haydn Primary School\, Haydn Road\, Sherwood\, Nottingham\, NG5 2JU
END:VEVENT
END:VCALENDAR