BEGIN:VCALENDAR
VERSION:2.0
PRODID:-//Nottingham Schools Trust - ECPv4.6.26//NONSGML v1.0//EN
CALSCALE:GREGORIAN
METHOD:PUBLISH
X-WR-CALNAME:Nottingham Schools Trust
X-ORIGINAL-URL:http://www.nottinghamschoolstrust.org.uk
X-WR-CALDESC:Events for Nottingham Schools Trust
BEGIN:VEVENT
DTSTART;TZID=Europe/London:20201008T161500
DTEND;TZID=Europe/London:20201008T174500
DTSTAMP:20260420T095101
CREATED:20200902T080838Z
LAST-MODIFIED:20201005T095610Z
UID:4912-1602173700-1602179100@www.nottinghamschoolstrust.org.uk
SUMMARY:PSHE Network
DESCRIPTION:For further details/to book visit our Eventbrite page: https://www.eventbrite.com/e/pshe-network-meeting-tickets-114641949156 \n
URL:http://www.nottinghamschoolstrust.org.uk/event/pshe-network/
END:VEVENT
END:VCALENDAR