BEGIN:VCALENDAR
VERSION:2.0
PRODID:-//Nottingham Schools Trust - ECPv4.6.26//NONSGML v1.0//EN
CALSCALE:GREGORIAN
METHOD:PUBLISH
X-WR-CALNAME:Nottingham Schools Trust
X-ORIGINAL-URL:http://www.nottinghamschoolstrust.org.uk
X-WR-CALDESC:Events for Nottingham Schools Trust
BEGIN:VEVENT
DTSTART;TZID=Europe/London:20191114T133000
DTEND;TZID=Europe/London:20191114T153000
DTSTAMP:20260425T104609
CREATED:20190916T102320Z
LAST-MODIFIED:20190916T102320Z
UID:3487-1573738200-1573745400@www.nottinghamschoolstrust.org.uk
SUMMARY:RE Network Meeting
DESCRIPTION:To book a place at this meeting please visit our Eventbrite page here: https://www.eventbrite.com/e/re-network-meeting-tickets-72921103985 \n  \n  \n
URL:http://www.nottinghamschoolstrust.org.uk/event/re-network-meeting-2/
LOCATION:Sneinton St Stephen’s Primary School\, Windmill Lane\, Nottingham\, NG2 4QB
END:VEVENT
END:VCALENDAR