BEGIN:VCALENDAR
VERSION:2.0
PRODID:-//Nottingham Schools Trust - ECPv4.6.26//NONSGML v1.0//EN
CALSCALE:GREGORIAN
METHOD:PUBLISH
X-WR-CALNAME:Nottingham Schools Trust
X-ORIGINAL-URL:http://www.nottinghamschoolstrust.org.uk
X-WR-CALDESC:Events for Nottingham Schools Trust
BEGIN:VEVENT
DTSTART;TZID=Europe/London:20210322T153000
DTEND;TZID=Europe/London:20210322T170000
DTSTAMP:20260422T180913
CREATED:20210309T112502Z
LAST-MODIFIED:20210309T112502Z
UID:6264-1616427000-1616432400@www.nottinghamschoolstrust.org.uk
SUMMARY:RE Network Meeting
DESCRIPTION:Visit our Eventbrite page for further details: https://www.eventbrite.com/o/nottingham-schools-trust-19990165449 \n
URL:http://www.nottinghamschoolstrust.org.uk/event/re-network-meeting-5/
END:VEVENT
END:VCALENDAR