BEGIN:VCALENDAR
VERSION:2.0
PRODID:-//Nottingham Schools Trust - ECPv4.6.26//NONSGML v1.0//EN
CALSCALE:GREGORIAN
METHOD:PUBLISH
X-WR-CALNAME:Nottingham Schools Trust
X-ORIGINAL-URL:http://www.nottinghamschoolstrust.org.uk
X-WR-CALDESC:Events for Nottingham Schools Trust
BEGIN:VEVENT
DTSTART;TZID=Europe/London:20220523T153000
DTEND;TZID=Europe/London:20220523T170000
DTSTAMP:20260425T202702
CREATED:20220330T142534Z
LAST-MODIFIED:20220330T142534Z
UID:7797-1653319800-1653325200@www.nottinghamschoolstrust.org.uk
SUMMARY:RE Network Meeting
DESCRIPTION:To book a place visit our Eventbrite page: https://www.eventbrite.com/o/nottingham-schools-trust-19990165449 \n
URL:http://www.nottinghamschoolstrust.org.uk/event/re-network-meeting-6/
END:VEVENT
END:VCALENDAR