BEGIN:VCALENDAR
VERSION:2.0
PRODID:-//Nottingham Schools Trust - ECPv4.6.26//NONSGML v1.0//EN
CALSCALE:GREGORIAN
METHOD:PUBLISH
X-WR-CALNAME:Nottingham Schools Trust
X-ORIGINAL-URL:http://www.nottinghamschoolstrust.org.uk
X-WR-CALDESC:Events for Nottingham Schools Trust
BEGIN:VEVENT
DTSTART;TZID=Europe/London:20210609T130000
DTEND;TZID=Europe/London:20210609T150000
DTSTAMP:20260420T061202
CREATED:20200901T103210Z
LAST-MODIFIED:20200901T103210Z
UID:4883-1623243600-1623250800@www.nottinghamschoolstrust.org.uk
SUMMARY:Role of a Phonics Lead and responsibilities / leading a team of phonics experts
DESCRIPTION:For further details or to book\, visit our Eventbrite page: https://www.eventbrite.com/o/nottingham-schools-trust-19990165449 \n
URL:http://www.nottinghamschoolstrust.org.uk/event/role-of-a-phonics-lead-and-responsibilities-leading-a-team-of-phonics-experts/
END:VEVENT
END:VCALENDAR