BEGIN:VCALENDAR
VERSION:2.0
PRODID:-//Nottingham Schools Trust - ECPv4.6.26//NONSGML v1.0//EN
CALSCALE:GREGORIAN
METHOD:PUBLISH
X-WR-CALNAME:Nottingham Schools Trust
X-ORIGINAL-URL:http://www.nottinghamschoolstrust.org.uk
X-WR-CALDESC:Events for Nottingham Schools Trust
BEGIN:VEVENT
DTSTART;TZID=Europe/London:20200131T094500
DTEND;TZID=Europe/London:20200131T153000
DTSTAMP:20260425T034334
CREATED:20191205T151030Z
LAST-MODIFIED:20191205T151030Z
UID:3747-1580463900-1580484600@www.nottinghamschoolstrust.org.uk
SUMMARY:Rosenshine CPD Day with Tom Sherrington
DESCRIPTION:An agenda for this session can be found here: \n\nRosenshine CPD Day_ Evidence-Informed Teaching\n\napproximately 30 places are available for NST colleagues to join the team at Foxwood Academy for this session.  Places can be booked on a first come first served basis by email to Emily.Humphreys@nottinghamschoolstrust.org.uk \n
URL:http://www.nottinghamschoolstrust.org.uk/event/rosenshine-cpd-day-with-tom-sherrington/
LOCATION:Foxwood Academy\, Derby Road\, Bramcote\,\, Nottingham\, NG9 3GF\, United Kingdom
END:VEVENT
END:VCALENDAR