BEGIN:VCALENDAR
VERSION:2.0
PRODID:-//Nottingham Schools Trust - ECPv4.6.26//NONSGML v1.0//EN
CALSCALE:GREGORIAN
METHOD:PUBLISH
X-WR-CALNAME:Nottingham Schools Trust
X-ORIGINAL-URL:http://www.nottinghamschoolstrust.org.uk
X-WR-CALDESC:Events for Nottingham Schools Trust
BEGIN:VEVENT
DTSTART;TZID=Europe/London:20191015T130000
DTEND;TZID=Europe/London:20191015T170000
DTSTAMP:20260424T153017
CREATED:20190827T111433Z
LAST-MODIFIED:20190827T111433Z
UID:3280-1571144400-1571158800@www.nottinghamschoolstrust.org.uk
SUMMARY:RQT Network Meeting
DESCRIPTION:
URL:http://www.nottinghamschoolstrust.org.uk/event/rqt-network-meeting/
LOCATION:Mellers Primary School
END:VEVENT
END:VCALENDAR