BEGIN:VCALENDAR
VERSION:2.0
PRODID:-//Nottingham Schools Trust - ECPv4.6.26//NONSGML v1.0//EN
CALSCALE:GREGORIAN
METHOD:PUBLISH
X-WR-CALNAME:Nottingham Schools Trust
X-ORIGINAL-URL:http://www.nottinghamschoolstrust.org.uk
X-WR-CALDESC:Events for Nottingham Schools Trust
BEGIN:VEVENT
DTSTART;TZID=Europe/London:20250423T090000
DTEND;TZID=Europe/London:20250423T113000
DTSTAMP:20260422T092002
CREATED:20240819T121834Z
LAST-MODIFIED:20240819T121834Z
UID:10241-1745398800-1745407800@www.nottinghamschoolstrust.org.uk
SUMMARY:SBM Network Meeting
DESCRIPTION:
URL:http://www.nottinghamschoolstrust.org.uk/event/sbm-network-meeting-4/
LOCATION:Nottingham Nursery School & Training Centre\, Denman Street West\, Radford\, Nottingham\, NG7 3AB
END:VEVENT
END:VCALENDAR