BEGIN:VCALENDAR
VERSION:2.0
PRODID:-//Nottingham Schools Trust - ECPv4.6.26//NONSGML v1.0//EN
CALSCALE:GREGORIAN
METHOD:PUBLISH
X-WR-CALNAME:Nottingham Schools Trust
X-ORIGINAL-URL:http://www.nottinghamschoolstrust.org.uk
X-WR-CALDESC:Events for Nottingham Schools Trust
BEGIN:VEVENT
DTSTART;TZID=Europe/London:20210827T100000
DTEND;TZID=Europe/London:20210827T120000
DTSTAMP:20260420T013436
CREATED:20210827T105318Z
LAST-MODIFIED:20210827T105318Z
UID:6887-1630058400-1630065600@www.nottinghamschoolstrust.org.uk
SUMMARY:School Business Leader Network Meeting
DESCRIPTION:This meeting is taking place online – contact Emily.Humphreys@nottinghamschoolstrust.org.uk if you would like to be sent a Teams invite for this meeting. \n
URL:http://www.nottinghamschoolstrust.org.uk/event/school-business-leader-network-meeting-2/
END:VEVENT
END:VCALENDAR