BEGIN:VCALENDAR
VERSION:2.0
PRODID:-//Nottingham Schools Trust - ECPv4.6.26//NONSGML v1.0//EN
CALSCALE:GREGORIAN
METHOD:PUBLISH
X-WR-CALNAME:Nottingham Schools Trust
X-ORIGINAL-URL:http://www.nottinghamschoolstrust.org.uk
X-WR-CALDESC:Events for Nottingham Schools Trust
BEGIN:VEVENT
DTSTART;TZID=Europe/London:20210301T153000
DTEND;TZID=Europe/London:20210301T170000
DTSTAMP:20260421T211630
CREATED:20210309T115527Z
LAST-MODIFIED:20210309T115527Z
UID:6290-1614612600-1614618000@www.nottinghamschoolstrust.org.uk
SUMMARY:Science Network Meeting
DESCRIPTION:Visit our Eventbrite page for further details: https://www.eventbrite.com/o/nottingham-schools-trust-19990165449 \n
URL:http://www.nottinghamschoolstrust.org.uk/event/science-network-meeting-3/
END:VEVENT
END:VCALENDAR