BEGIN:VCALENDAR
VERSION:2.0
PRODID:-//Nottingham Schools Trust - ECPv4.6.26//NONSGML v1.0//EN
CALSCALE:GREGORIAN
METHOD:PUBLISH
X-WR-CALNAME:Nottingham Schools Trust
X-ORIGINAL-URL:http://www.nottinghamschoolstrust.org.uk
X-WR-CALDESC:Events for Nottingham Schools Trust
BEGIN:VEVENT
DTSTART;TZID=Europe/London:20210520T083000
DTEND;TZID=Europe/London:20210520T123000
DTSTAMP:20260420T072938
CREATED:20210309T120639Z
LAST-MODIFIED:20210309T120639Z
UID:6305-1621499400-1621513800@www.nottinghamschoolstrust.org.uk
SUMMARY:Securing Outstanding Programme - Session 1
DESCRIPTION:For further details contact Emily.humphreys@nottinghamschoolstrust.org.uk \n
URL:http://www.nottinghamschoolstrust.org.uk/event/securing-outstanding-programme-session-1/
LOCATION:Nottingham Nursery School & Training Centre\, Denman Street West\, Radford\, Nottingham\, NG7 3AB
END:VEVENT
END:VCALENDAR