BEGIN:VCALENDAR
VERSION:2.0
PRODID:-//Nottingham Schools Trust - ECPv4.6.26//NONSGML v1.0//EN
CALSCALE:GREGORIAN
METHOD:PUBLISH
X-WR-CALNAME:Nottingham Schools Trust
X-ORIGINAL-URL:http://www.nottinghamschoolstrust.org.uk
X-WR-CALDESC:Events for Nottingham Schools Trust
BEGIN:VEVENT
DTSTART;TZID=Europe/London:20201014T154500
DTEND;TZID=Europe/London:20201014T174500
DTSTAMP:20260422T213059
CREATED:20200901T101715Z
LAST-MODIFIED:20200901T101715Z
UID:4865-1602690300-1602697500@www.nottinghamschoolstrust.org.uk
SUMMARY:'Spellonics' - Where Phonics Meets Spelling: for Phase 6 (Year 2 and Year 3)
DESCRIPTION:For further details or to book\, visit our Eventbrite page: https://www.eventbrite.com/o/nottingham-schools-trust-19990165449 \n
URL:http://www.nottinghamschoolstrust.org.uk/event/spellonics-where-phonics-meets-spelling-for-phase-6-year-2-and-year-3-2/
END:VEVENT
END:VCALENDAR