BEGIN:VCALENDAR
VERSION:2.0
PRODID:-//Nottingham Schools Trust - ECPv4.6.26//NONSGML v1.0//EN
CALSCALE:GREGORIAN
METHOD:PUBLISH
X-WR-CALNAME:Nottingham Schools Trust
X-ORIGINAL-URL:http://www.nottinghamschoolstrust.org.uk
X-WR-CALDESC:Events for Nottingham Schools Trust
BEGIN:VEVENT
DTSTART;VALUE=DATE:20190320
DTEND;VALUE=DATE:20190321
DTSTAMP:20260420T222620
CREATED:20180711T094554Z
LAST-MODIFIED:20180711T094554Z
UID:1369-1553040000-1553126399@www.nottinghamschoolstrust.org.uk
SUMMARY:SSIF 1 Early Years Communications Programme
DESCRIPTION:
URL:http://www.nottinghamschoolstrust.org.uk/event/ssif-1-early-years-communications-programme/
END:VEVENT
END:VCALENDAR