BEGIN:VCALENDAR
VERSION:2.0
PRODID:-//Nottingham Schools Trust - ECPv4.6.26//NONSGML v1.0//EN
CALSCALE:GREGORIAN
METHOD:PUBLISH
X-WR-CALNAME:Nottingham Schools Trust
X-ORIGINAL-URL:http://www.nottinghamschoolstrust.org.uk
X-WR-CALDESC:Events for Nottingham Schools Trust
BEGIN:VEVENT
DTSTART;TZID=Europe/London:20190328T090000
DTEND;TZID=Europe/London:20190328T123000
DTSTAMP:20260422T121829
CREATED:20180907T111446Z
LAST-MODIFIED:20180907T111446Z
UID:1528-1553763600-1553776200@www.nottinghamschoolstrust.org.uk
SUMMARY:SSIF 2 Maths: Lesson Study: Whole-Class Strategies to Support Learning and Behaviour Difficulties in Inclusive Maths Classrooms (Session 3)
DESCRIPTION:Please see attached flyer for further information and booking details. \nSSIF 2 Maths – Lesson Study – Whole-Class Strategies to Support Learning and Behaviour Difficulties in Inclusive Maths Classrooms \n  \n
URL:http://www.nottinghamschoolstrust.org.uk/event/ssif-2-maths-lesson-study-whole-class-strategies-to-support-learning-and-behaviour-difficulties-in-inclusive-maths-classrooms-session-3/
END:VEVENT
END:VCALENDAR