BEGIN:VCALENDAR
VERSION:2.0
PRODID:-//Nottingham Schools Trust - ECPv4.6.26//NONSGML v1.0//EN
CALSCALE:GREGORIAN
METHOD:PUBLISH
X-WR-CALNAME:Nottingham Schools Trust
X-ORIGINAL-URL:http://www.nottinghamschoolstrust.org.uk
X-WR-CALDESC:Events for Nottingham Schools Trust
BEGIN:VEVENT
DTSTART;TZID=Europe/London:20190315T090000
DTEND;TZID=Europe/London:20190315T133000
DTSTAMP:20260421T024742
CREATED:20180628T145346Z
LAST-MODIFIED:20180628T145346Z
UID:1261-1552640400-1552656600@www.nottinghamschoolstrust.org.uk
SUMMARY:SSIF 2 Maths Mastery for TAs Workshop
DESCRIPTION:Lunch will be provided at this workshop. \n
URL:http://www.nottinghamschoolstrust.org.uk/event/ssif-2-maths-mastery-for-tas-workshop-3/
LOCATION:Trent Vineyard
END:VEVENT
END:VCALENDAR