BEGIN:VCALENDAR
VERSION:2.0
PRODID:-//Nottingham Schools Trust - ECPv4.6.26//NONSGML v1.0//EN
CALSCALE:GREGORIAN
METHOD:PUBLISH
X-WR-CALNAME:Nottingham Schools Trust
X-ORIGINAL-URL:http://www.nottinghamschoolstrust.org.uk
X-WR-CALDESC:Events for Nottingham Schools Trust
BEGIN:VEVENT
DTSTART;TZID=Europe/London:20190403T090000
DTEND;TZID=Europe/London:20190403T130000
DTSTAMP:20260420T101335
CREATED:20180717T094730Z
LAST-MODIFIED:20190308T124639Z
UID:1426-1554282000-1554296400@www.nottinghamschoolstrust.org.uk
SUMMARY:SSIF Maths Project Finale
DESCRIPTION:The finale is taking place at the Kegworth Hotel\, starting at 9.00am and finishing with lunch at 12.00pm. The morning is aimed at Headteachers\, Deputy Headteachers and Maths leads. \nPlaces are limited: to book a place please email Katie.felstead@transformtrust.co.uk. \n(Note\, the date for this event was originally 17/05/2019\, but it has now been moved due to DfE constraints to 03/04/2019) \n  \n   \n  \n
URL:http://www.nottinghamschoolstrust.org.uk/event/ssif-2-maths-primary-maths-specialist-programme-mini-conference/
END:VEVENT
END:VCALENDAR