BEGIN:VCALENDAR
VERSION:2.0
PRODID:-//Nottingham Schools Trust - ECPv4.6.26//NONSGML v1.0//EN
CALSCALE:GREGORIAN
METHOD:PUBLISH
X-WR-CALNAME:Nottingham Schools Trust
X-ORIGINAL-URL:http://www.nottinghamschoolstrust.org.uk
X-WR-CALDESC:Events for Nottingham Schools Trust
BEGIN:VEVENT
DTSTART;TZID=Europe/London:20190312T093000
DTEND;TZID=Europe/London:20190312T153000
DTSTAMP:20260421T111338
CREATED:20180717T094608Z
LAST-MODIFIED:20180905T155253Z
UID:1424-1552383000-1552404600@www.nottinghamschoolstrust.org.uk
SUMMARY:SSIF 2 Maths - Primary Maths Specialist Programme (Session 6)
DESCRIPTION:Venue to be confirmed. \n
URL:http://www.nottinghamschoolstrust.org.uk/event/ssif-2-maths-primary-maths-specialist-programme-session-6/
END:VEVENT
END:VCALENDAR