BEGIN:VCALENDAR
VERSION:2.0
PRODID:-//Nottingham Schools Trust - ECPv4.6.26//NONSGML v1.0//EN
CALSCALE:GREGORIAN
METHOD:PUBLISH
X-WR-CALNAME:Nottingham Schools Trust
X-ORIGINAL-URL:http://www.nottinghamschoolstrust.org.uk
X-WR-CALDESC:Events for Nottingham Schools Trust
BEGIN:VEVENT
DTSTART;TZID=Europe/London:20190307T080000
DTEND;TZID=Europe/London:20190307T170000
DTSTAMP:20260421T185551
CREATED:20180907T125439Z
LAST-MODIFIED:20180907T125439Z
UID:1545-1551945600-1551978000@www.nottinghamschoolstrust.org.uk
SUMMARY:SSIF 2 Maths: Tackling Misconceptions\, Collaboration\, Independent Learning and Problem Solving (Session 4)
DESCRIPTION:This is a bespoke secondary session.  Further information and booking details can be found on the flyer attached. \nSSIF 2 Maths – Secondary – Tackling Misconceptions\, Collaboration\, Independent Learning and Problem Solving \n
URL:http://www.nottinghamschoolstrust.org.uk/event/ssif-2-maths-tackling-misconceptions-collaboration-independent-learning-and-problem-solving-session-4/
END:VEVENT
END:VCALENDAR