BEGIN:VCALENDAR
VERSION:2.0
PRODID:-//Nottingham Schools Trust - ECPv4.6.26//NONSGML v1.0//EN
CALSCALE:GREGORIAN
METHOD:PUBLISH
X-WR-CALNAME:Nottingham Schools Trust
X-ORIGINAL-URL:http://www.nottinghamschoolstrust.org.uk
X-WR-CALDESC:Events for Nottingham Schools Trust
BEGIN:VEVENT
DTSTART;VALUE=DATE:20190306
DTEND;VALUE=DATE:20190307
DTSTAMP:20260421T201321
CREATED:20180108T153601Z
LAST-MODIFIED:20180108T160624Z
UID:671-1551830400-1551916799@www.nottinghamschoolstrust.org.uk
SUMMARY:SSIF - specialist reading
DESCRIPTION:
URL:http://www.nottinghamschoolstrust.org.uk/event/ssif-specialist-reading-3/
END:VEVENT
END:VCALENDAR