BEGIN:VCALENDAR
VERSION:2.0
PRODID:-//Nottingham Schools Trust - ECPv4.6.26//NONSGML v1.0//EN
CALSCALE:GREGORIAN
METHOD:PUBLISH
X-WR-CALNAME:Nottingham Schools Trust
X-ORIGINAL-URL:http://www.nottinghamschoolstrust.org.uk
X-WR-CALDESC:Events for Nottingham Schools Trust
BEGIN:VEVENT
DTSTART;TZID=Europe/London:20201014T133000
DTEND;TZID=Europe/London:20201014T150000
DTSTAMP:20260424T163810
CREATED:20200914T092243Z
LAST-MODIFIED:20200914T092243Z
UID:5019-1602682200-1602687600@www.nottinghamschoolstrust.org.uk
SUMMARY:TA Network Meeting
DESCRIPTION:For more information: https://www.eventbrite.co.uk/e/teaching-assistant-october-network-tickets-115022639812 \n
URL:http://www.nottinghamschoolstrust.org.uk/event/ta-network-meeting-2/
END:VEVENT
END:VCALENDAR