BEGIN:VCALENDAR
VERSION:2.0
PRODID:-//Nottingham Schools Trust - ECPv4.6.26//NONSGML v1.0//EN
CALSCALE:GREGORIAN
METHOD:PUBLISH
X-WR-CALNAME:Nottingham Schools Trust
X-ORIGINAL-URL:http://www.nottinghamschoolstrust.org.uk
X-WR-CALDESC:Events for Nottingham Schools Trust
BEGIN:VEVENT
DTSTART;TZID=Europe/London:20210428T133000
DTEND;TZID=Europe/London:20210428T153000
DTSTAMP:20260419T191855
CREATED:20200914T092724Z
LAST-MODIFIED:20200914T092724Z
UID:5025-1619616600-1619623800@www.nottinghamschoolstrust.org.uk
SUMMARY:TA Network Meeting
DESCRIPTION:For further information: https://www.eventbrite.co.uk/e/teaching-assistant-april-network-tickets-115726494059 \n
URL:http://www.nottinghamschoolstrust.org.uk/event/ta-network-meeting-5/
END:VEVENT
END:VCALENDAR