BEGIN:VCALENDAR
VERSION:2.0
PRODID:-//Nottingham Schools Trust - ECPv4.6.26//NONSGML v1.0//EN
CALSCALE:GREGORIAN
METHOD:PUBLISH
X-WR-CALNAME:Nottingham Schools Trust
X-ORIGINAL-URL:http://www.nottinghamschoolstrust.org.uk
X-WR-CALDESC:Events for Nottingham Schools Trust
BEGIN:VEVENT
DTSTART;TZID=Europe/London:20200715T133000
DTEND;TZID=Europe/London:20200715T150000
DTSTAMP:20260421T181426
CREATED:20200624T145710Z
LAST-MODIFIED:20200624T145710Z
UID:4548-1594819800-1594825200@www.nottinghamschoolstrust.org.uk
SUMMARY:TA Network Meeting
DESCRIPTION:For information/to book: https://www.eventbrite.co.uk/e/virtual-teaching-assistant-july-network-201920-tickets-110601355632 \n
URL:http://www.nottinghamschoolstrust.org.uk/event/ta-network-meeting/
END:VEVENT
END:VCALENDAR