BEGIN:VCALENDAR
VERSION:2.0
PRODID:-//Nottingham Schools Trust - ECPv4.6.26//NONSGML v1.0//EN
CALSCALE:GREGORIAN
METHOD:PUBLISH
X-WR-CALNAME:Nottingham Schools Trust
X-ORIGINAL-URL:http://www.nottinghamschoolstrust.org.uk
X-WR-CALDESC:Events for Nottingham Schools Trust
BEGIN:VEVENT
DTSTART;TZID=Europe/London:20200214T133000
DTEND;TZID=Europe/London:20200214T163000
DTSTAMP:20260425T033917
CREATED:20200107T105007Z
LAST-MODIFIED:20200107T105007Z
UID:3820-1581687000-1581697800@www.nottinghamschoolstrust.org.uk
SUMMARY:The NST Big Read: Effective Practice in Phonics
DESCRIPTION:For further details or to book visit our Eventbrite page: https://www.eventbrite.com/e/the-nst-big-read-effective-practice-in-phonics-tickets-86690516669 \n
URL:http://www.nottinghamschoolstrust.org.uk/event/the-nst-big-read-effective-practice-in-phonics/
LOCATION:Snape Wood Primary
END:VEVENT
END:VCALENDAR