BEGIN:VCALENDAR
VERSION:2.0
PRODID:-//Nottingham Schools Trust - ECPv4.6.26//NONSGML v1.0//EN
CALSCALE:GREGORIAN
METHOD:PUBLISH
X-WR-CALNAME:Nottingham Schools Trust
X-ORIGINAL-URL:http://www.nottinghamschoolstrust.org.uk
X-WR-CALDESC:Events for Nottingham Schools Trust
BEGIN:VEVENT
DTSTART;TZID=Europe/London:20220315T090000
DTEND;TZID=Europe/London:20220315T120000
DTSTAMP:20260424T105810
CREATED:20210915T132301Z
LAST-MODIFIED:20210915T132301Z
UID:6980-1647334800-1647345600@www.nottinghamschoolstrust.org.uk
SUMMARY:Transform ECT 1 Programme - Session 5
DESCRIPTION:For further details or to book a place\, visit: ECT 1 Provision (1/7) | School development & CPD for teachers (transformapplied.co.uk) \n
URL:http://www.nottinghamschoolstrust.org.uk/event/transform-ect-1-programme-session-5/
END:VEVENT
END:VCALENDAR