BEGIN:VCALENDAR
VERSION:2.0
PRODID:-//Nottingham Schools Trust - ECPv4.6.26//NONSGML v1.0//EN
CALSCALE:GREGORIAN
METHOD:PUBLISH
X-WR-CALNAME:Nottingham Schools Trust
X-ORIGINAL-URL:http://www.nottinghamschoolstrust.org.uk
X-WR-CALDESC:Events for Nottingham Schools Trust
BEGIN:VEVENT
DTSTART;TZID=Europe/London:20191002T133000
DTEND;TZID=Europe/London:20191002T153000
DTSTAMP:20260423T234430
CREATED:20190711T120258Z
LAST-MODIFIED:20190902T135317Z
UID:2873-1570023000-1570030200@www.nottinghamschoolstrust.org.uk
SUMMARY:Transform Y6 Network - TA session 1
DESCRIPTION:See attached flyer for further details/booking information: \nYear 6 Network flyer 2019-20 \n
URL:http://www.nottinghamschoolstrust.org.uk/event/transform-y6-network-ta-session-1/
LOCATION:Transform\, Unit 11\, Castlefield Office Village\, Kirtley Drive\, Notttingham\, NG7 1LD
END:VEVENT
END:VCALENDAR