BEGIN:VCALENDAR
VERSION:2.0
PRODID:-//Nottingham Schools Trust - ECPv4.6.26//NONSGML v1.0//EN
CALSCALE:GREGORIAN
METHOD:PUBLISH
X-WR-CALNAME:Nottingham Schools Trust
X-ORIGINAL-URL:http://www.nottinghamschoolstrust.org.uk
X-WR-CALDESC:Events for Nottingham Schools Trust
BEGIN:VEVENT
DTSTART;TZID=Europe/London:20210113T133000
DTEND;TZID=Europe/London:20210113T150000
DTSTAMP:20260422T134841
CREATED:20201022T141815Z
LAST-MODIFIED:20201022T141815Z
UID:5374-1610544600-1610550000@www.nottinghamschoolstrust.org.uk
SUMMARY:Transform Year 6 Network - Session 2
DESCRIPTION:To book in please email Emily.Humphreys@nottinghamschoolstrust.org.uk \n
URL:http://www.nottinghamschoolstrust.org.uk/event/transform-year-6-network-session-2-2/
END:VEVENT
END:VCALENDAR