BEGIN:VCALENDAR
VERSION:2.0
PRODID:-//Nottingham Schools Trust - ECPv4.6.26//NONSGML v1.0//EN
CALSCALE:GREGORIAN
METHOD:PUBLISH
X-WR-CALNAME:Nottingham Schools Trust
X-ORIGINAL-URL:http://www.nottinghamschoolstrust.org.uk
X-WR-CALDESC:Events for Nottingham Schools Trust
BEGIN:VEVENT
DTSTART;TZID=Europe/London:20210421T133000
DTEND;TZID=Europe/London:20210421T150000
DTSTAMP:20260419T155610
CREATED:20201002T140710Z
LAST-MODIFIED:20201002T140710Z
UID:5324-1619011800-1619017200@www.nottinghamschoolstrust.org.uk
SUMMARY:Transform Year 6 Network - session 4
DESCRIPTION:The NST will fund staff to attend this network (we will be invoiced by Transform for your place) \nFor further details or to book: https://www.eventbrite.co.uk/e/year-6-network-4-network-meetings-tickets-121534985413 \n
URL:http://www.nottinghamschoolstrust.org.uk/event/transform-year-6-network-session-4/
END:VEVENT
END:VCALENDAR