BEGIN:VCALENDAR
VERSION:2.0
PRODID:-//Nottingham Schools Trust - ECPv4.6.26//NONSGML v1.0//EN
CALSCALE:GREGORIAN
METHOD:PUBLISH
X-WR-CALNAME:Nottingham Schools Trust
X-ORIGINAL-URL:http://www.nottinghamschoolstrust.org.uk
X-WR-CALDESC:Events for Nottingham Schools Trust
BEGIN:VEVENT
DTSTART;TZID=Europe/London:20200921T130000
DTEND;TZID=Europe/London:20200921T153000
DTSTAMP:20260421T091700
CREATED:20200624T143308Z
LAST-MODIFIED:20200706T095811Z
UID:4530-1600693200-1600702200@www.nottinghamschoolstrust.org.uk
SUMMARY:Understanding the EYFS for Headteachers and Senior Leaders
DESCRIPTION:For more information or to book: https://www.eventbrite.com/e/understanding-the-eyfs-for-headteachers-and-senior-leaders-tickets-109166925212 \n
URL:http://www.nottinghamschoolstrust.org.uk/event/understanding-the-eyfs-for-headteachers-and-senior-leaders-2/
END:VEVENT
END:VCALENDAR