BEGIN:VCALENDAR
VERSION:2.0
PRODID:-//Nottingham Schools Trust - ECPv4.6.26//NONSGML v1.0//EN
CALSCALE:GREGORIAN
METHOD:PUBLISH
X-WR-CALNAME:Nottingham Schools Trust
X-ORIGINAL-URL:http://www.nottinghamschoolstrust.org.uk
X-WR-CALDESC:Events for Nottingham Schools Trust
BEGIN:VEVENT
DTSTART;TZID=Europe/London:20190313T130000
DTEND;TZID=Europe/London:20190313T160000
DTSTAMP:20260421T080137
CREATED:20180926T095321Z
LAST-MODIFIED:20180926T095321Z
UID:1636-1552482000-1552492800@www.nottinghamschoolstrust.org.uk
SUMMARY:Virtual School - Designated Teacher Network Meeting
DESCRIPTION:Please view the attached flyer for further information and booking details: \nNottingham City Virtual School Annual Training Programme 2018-19 – final \n  \n
URL:http://www.nottinghamschoolstrust.org.uk/event/virtual-school-designated-teacher-network-meeting-2/
LOCATION:Jury’s Inn
END:VEVENT
END:VCALENDAR