BEGIN:VCALENDAR
VERSION:2.0
PRODID:-//Nottingham Schools Trust - ECPv4.6.26//NONSGML v1.0//EN
CALSCALE:GREGORIAN
METHOD:PUBLISH
X-WR-CALNAME:Nottingham Schools Trust
X-ORIGINAL-URL:http://www.nottinghamschoolstrust.org.uk
X-WR-CALDESC:Events for Nottingham Schools Trust
BEGIN:VEVENT
DTSTART;TZID=Europe/London:20190619T093000
DTEND;TZID=Europe/London:20190619T123000
DTSTAMP:20260420T044334
CREATED:20180926T095932Z
LAST-MODIFIED:20180926T095932Z
UID:1642-1560936600-1560947400@www.nottinghamschoolstrust.org.uk
SUMMARY:Virtual School - Designated Teacher Training Session
DESCRIPTION:Please see the attached document for further information and booking details: \nNottingham City Virtual School Annual Training Programme 2018-19 – final \n
URL:http://www.nottinghamschoolstrust.org.uk/event/virtual-school-designated-teacher-training-session-2/
LOCATION:Jury’s Inn
END:VEVENT
END:VCALENDAR