BEGIN:VCALENDAR
VERSION:2.0
PRODID:-//Nottingham Schools Trust - ECPv4.6.26//NONSGML v1.0//EN
CALSCALE:GREGORIAN
METHOD:PUBLISH
X-WR-CALNAME:Nottingham Schools Trust
X-ORIGINAL-URL:http://www.nottinghamschoolstrust.org.uk
X-WR-CALDESC:Events for Nottingham Schools Trust
BEGIN:VEVENT
DTSTART;TZID=Europe/London:20201208T090000
DTEND;TZID=Europe/London:20201208T123000
DTSTAMP:20260419T203134
CREATED:20200902T083441Z
LAST-MODIFIED:20200902T083441Z
UID:4948-1607418000-1607430600@www.nottinghamschoolstrust.org.uk
SUMMARY:Voice Nottingham Accelerate Oracy Programme - Day 1
DESCRIPTION:This session will take place online. \n
URL:http://www.nottinghamschoolstrust.org.uk/event/voice-nottingham-accelerate-oracy-programme-day-1/
END:VEVENT
END:VCALENDAR