BEGIN:VCALENDAR
VERSION:2.0
PRODID:-//Nottingham Schools Trust - ECPv4.6.26//NONSGML v1.0//EN
CALSCALE:GREGORIAN
METHOD:PUBLISH
X-WR-CALNAME:Nottingham Schools Trust
X-ORIGINAL-URL:http://www.nottinghamschoolstrust.org.uk
X-WR-CALDESC:Events for Nottingham Schools Trust
BEGIN:VEVENT
DTSTART;TZID=Europe/London:20200929T090000
DTEND;TZID=Europe/London:20200929T123000
DTSTAMP:20260423T012318
CREATED:20200902T082748Z
LAST-MODIFIED:20200902T082748Z
UID:4938-1601370000-1601382600@www.nottinghamschoolstrust.org.uk
SUMMARY:Voice Nottingham Amplify Oracy Day 1
DESCRIPTION:This session will take place online. \n
URL:http://www.nottinghamschoolstrust.org.uk/event/voice-nottingham-amplify-oracy-day-1/
END:VEVENT
END:VCALENDAR