BEGIN:VCALENDAR
VERSION:2.0
PRODID:-//Nottingham Schools Trust - ECPv4.6.26//NONSGML v1.0//EN
CALSCALE:GREGORIAN
METHOD:PUBLISH
X-WR-CALNAME:Nottingham Schools Trust
X-ORIGINAL-URL:http://www.nottinghamschoolstrust.org.uk
X-WR-CALDESC:Events for Nottingham Schools Trust
BEGIN:VEVENT
DTSTART;TZID=Europe/London:20210511T080000
DTEND;TZID=Europe/London:20210511T170000
DTSTAMP:20260420T031622
CREATED:20200902T083343Z
LAST-MODIFIED:20200902T083343Z
UID:4946-1620720000-1620752400@www.nottinghamschoolstrust.org.uk
SUMMARY:Voice Nottingham Amplify Oracy - Day 4
DESCRIPTION:This will be a full day in-person session.  Timings and venue tbc. \n
URL:http://www.nottinghamschoolstrust.org.uk/event/voice-nottingham-amplify-oracy-day-4/
END:VEVENT
END:VCALENDAR