BEGIN:VCALENDAR
VERSION:2.0
PRODID:-//Nottingham Schools Trust - ECPv4.6.26//NONSGML v1.0//EN
CALSCALE:GREGORIAN
METHOD:PUBLISH
X-WR-CALNAME:Nottingham Schools Trust
X-ORIGINAL-URL:http://www.nottinghamschoolstrust.org.uk
X-WR-CALDESC:Events for Nottingham Schools Trust
BEGIN:VEVENT
DTSTART;TZID=Europe/London:20240507T093000
DTEND;TZID=Europe/London:20240507T153000
DTSTAMP:20260421T152902
CREATED:20230706T132959Z
LAST-MODIFIED:20240122T123144Z
UID:9122-1715074200-1715095800@www.nottinghamschoolstrust.org.uk
SUMMARY:RE Network Meeting
DESCRIPTION:Meetings will be available to book via our Eventbrite page at the beginning of each term: https://www.eventbrite.com/o/nottingham-schools-trust-19990165449 \n
URL:http://www.nottinghamschoolstrust.org.uk/event/wednesday-24th-april-4-00pm-to-5-30pm/
END:VEVENT
END:VCALENDAR