BEGIN:VCALENDAR
VERSION:2.0
PRODID:-//Nottingham Schools Trust - ECPv4.6.26//NONSGML v1.0//EN
CALSCALE:GREGORIAN
METHOD:PUBLISH
X-WR-CALNAME:Nottingham Schools Trust
X-ORIGINAL-URL:http://www.nottinghamschoolstrust.org.uk
X-WR-CALDESC:Events for Nottingham Schools Trust
BEGIN:VEVENT
DTSTART;TZID=Europe/London:20250502T131500
DTEND;TZID=Europe/London:20250502T160000
DTSTAMP:20260422T091801
CREATED:20240820T114751Z
LAST-MODIFIED:20240820T114751Z
UID:10289-1746191700-1746201600@www.nottinghamschoolstrust.org.uk
SUMMARY:Y1 Moderation Workshop
DESCRIPTION:To book: Y1 Moderation Workshop – Events – Universe \n
URL:http://www.nottinghamschoolstrust.org.uk/event/y1-moderation-workshop/
LOCATION:Nottingham Nursery School & Training Centre\, Denman Street West\, Radford\, Nottingham\, NG7 3AB
END:VEVENT
END:VCALENDAR