BEGIN:VCALENDAR
VERSION:2.0
PRODID:-//Nottingham Schools Trust - ECPv4.6.26//NONSGML v1.0//EN
CALSCALE:GREGORIAN
METHOD:PUBLISH
X-WR-CALNAME:Nottingham Schools Trust
X-ORIGINAL-URL:http://www.nottinghamschoolstrust.org.uk
X-WR-CALDESC:Events for Nottingham Schools Trust
BEGIN:VEVENT
DTSTART;TZID=Europe/London:20250328T131500
DTEND;TZID=Europe/London:20250328T160000
DTSTAMP:20260420T073904
CREATED:20240820T114009Z
LAST-MODIFIED:20240820T114009Z
UID:10278-1743167700-1743177600@www.nottinghamschoolstrust.org.uk
SUMMARY:Y6 Moderation Workshop
DESCRIPTION:To book: Y6 Moderation Workshop – Events – Universe \n
URL:http://www.nottinghamschoolstrust.org.uk/event/y6-moderation-workshop/
LOCATION:Nottingham Nursery School & Training Centre\, Denman Street West\, Radford\, Nottingham\, NG7 3AB
END:VEVENT
END:VCALENDAR