BEGIN:VCALENDAR
VERSION:2.0
PRODID:-//Nottingham Schools Trust - ECPv4.6.26//NONSGML v1.0//EN
CALSCALE:GREGORIAN
METHOD:PUBLISH
X-WR-CALNAME:Nottingham Schools Trust
X-ORIGINAL-URL:http://www.nottinghamschoolstrust.org.uk
X-WR-CALDESC:Events for Nottingham Schools Trust
BEGIN:VEVENT
DTSTART;TZID=Europe/London:20200915T093000
DTEND;TZID=Europe/London:20200915T123000
DTSTAMP:20260421T074604
CREATED:20200903T120430Z
LAST-MODIFIED:20200903T120430Z
UID:4966-1600162200-1600173000@www.nottinghamschoolstrust.org.uk
SUMMARY:Youth Mental Health First Aid Awareness Training
DESCRIPTION:See the attached flyer for further details: \n\nYouth MHFA Awareness training flyer – September 2020\n\n
URL:http://www.nottinghamschoolstrust.org.uk/event/youth-mental-health-first-aid-awareness-training/
END:VEVENT
END:VCALENDAR