BEGIN:VCALENDAR
VERSION:2.0
PRODID:-//Nottingham Schools Trust - ECPv4.6.26//NONSGML v1.0//EN
CALSCALE:GREGORIAN
METHOD:PUBLISH
X-WR-CALNAME:Nottingham Schools Trust
X-ORIGINAL-URL:http://www.nottinghamschoolstrust.org.uk
X-WR-CALDESC:Events for Nottingham Schools Trust
BEGIN:VEVENT
DTSTART;TZID=Europe/London:20190515T083000
DTEND;TZID=Europe/London:20190515T163000
DTSTAMP:20260420T055325
CREATED:20181207T143848Z
LAST-MODIFIED:20181207T143848Z
UID:2087-1557909000-1557937800@www.nottinghamschoolstrust.org.uk
SUMMARY:Youth Mental Health First Aid One Day Course
DESCRIPTION:MHFA APPLICATION FORM 1day \nMHFA One Day Course Flyer \nPlease complete the application form and return to jane.hyland@nottinghamcity.gov.uk \n  \n
URL:http://www.nottinghamschoolstrust.org.uk/event/youth-mental-health-first-aid-one-day-course-2/
LOCATION:Loxley House
END:VEVENT
END:VCALENDAR