BEGIN:VCALENDAR
VERSION:2.0
PRODID:-//Nottingham Schools Trust - ECPv4.6.26//NONSGML v1.0//EN
CALSCALE:GREGORIAN
METHOD:PUBLISH
X-WR-CALNAME:Nottingham Schools Trust
X-ORIGINAL-URL:http://www.nottinghamschoolstrust.org.uk
X-WR-CALDESC:Events for Nottingham Schools Trust
BEGIN:VEVENT
DTSTART;TZID=Europe/London:20190318T083000
DTEND;TZID=Europe/London:20190318T163000
DTSTAMP:20260421T012135
CREATED:20181119T115043Z
LAST-MODIFIED:20181119T115156Z
UID:1806-1552897800-1552926600@www.nottinghamschoolstrust.org.uk
SUMMARY:Youth Mental Health First Aid training course
DESCRIPTION:2 day event running on Friday 15th March and Monday 18th March.  Training will be held at Loxley House on both days\, 8.30am to 4.30pm. \nSee attached flyer and booking form for further details. \nYOUTH_MHFA_ 4 copy \nMHFA Application Form2 \n  \n
URL:http://www.nottinghamschoolstrust.org.uk/event/youth-mental-health-first-aid-training-course-2/
END:VEVENT
END:VCALENDAR