BEGIN:VCALENDAR
VERSION:2.0
PRODID:-//Nottingham Schools Trust - ECPv4.6.26//NONSGML v1.0//EN
CALSCALE:GREGORIAN
METHOD:PUBLISH
X-WR-CALNAME:Nottingham Schools Trust
X-ORIGINAL-URL:http://www.nottinghamschoolstrust.org.uk
X-WR-CALDESC:Events for Nottingham Schools Trust
BEGIN:VEVENT
DTSTART;TZID=Europe/London:20210708T150000
DTEND;TZID=Europe/London:20210708T171500
DTSTAMP:20260420T030035
CREATED:20210426T111835Z
LAST-MODIFIED:20210426T111854Z
UID:6426-1625756400-1625764500@www.nottinghamschoolstrust.org.uk
SUMMARY:Youth Mental Health First Aid Training - Session 2
DESCRIPTION:See the attached flyer for further details: \n\nJuly21MHFAonline Firstaid\n\n
URL:http://www.nottinghamschoolstrust.org.uk/event/youth-mental-health-first-aid-training-session-1-2/
END:VEVENT
END:VCALENDAR