BEGIN:VCALENDAR
VERSION:2.0
PRODID:-//Nottingham Schools Trust - ECPv4.6.26//NONSGML v1.0//EN
CALSCALE:GREGORIAN
METHOD:PUBLISH
X-WR-CALNAME:Nottingham Schools Trust
X-ORIGINAL-URL:http://www.nottinghamschoolstrust.org.uk
X-WR-CALDESC:Events for Nottingham Schools Trust
BEGIN:VEVENT
DTSTART;TZID=Europe/London:20210712T150000
DTEND;TZID=Europe/London:20210712T171500
DTSTAMP:20260420T030015
CREATED:20210426T112031Z
LAST-MODIFIED:20210426T112031Z
UID:6429-1626102000-1626110100@www.nottinghamschoolstrust.org.uk
SUMMARY:Youth Mental Health First Aid Training - Session 3
DESCRIPTION:See the attached flyer for further details: \nJuly21MHFAonline Firstaid \n  \n  \n
URL:http://www.nottinghamschoolstrust.org.uk/event/youth-mental-health-first-aid-training-session-3/
END:VEVENT
END:VCALENDAR