BEGIN:VCALENDAR
VERSION:2.0
PRODID:-//Nottingham Schools Trust - ECPv4.6.26//NONSGML v1.0//EN
CALSCALE:GREGORIAN
METHOD:PUBLISH
X-WR-CALNAME:Nottingham Schools Trust
X-ORIGINAL-URL:http://www.nottinghamschoolstrust.org.uk
X-WR-CALDESC:Events for Nottingham Schools Trust
BEGIN:VEVENT
DTSTART;TZID=Europe/London:20190613T103000
DTEND;TZID=Europe/London:20190613T123000
DTSTAMP:20260423T084516
CREATED:20180312T144904Z
LAST-MODIFIED:20180312T144904Z
UID:884-1560421800-1560429000@www.nottinghamschoolstrust.org.uk
SUMMARY:NST Members Meeting
DESCRIPTION:
URL:http://www.nottinghamschoolstrust.org.uk/event/nst-members-meeting-3/
END:VEVENT
BEGIN:VEVENT
DTSTART;TZID=Europe/London:20190613T131500
DTEND;TZID=Europe/London:20190613T154500
DTSTAMP:20260423T084516
CREATED:20180628T140808Z
LAST-MODIFIED:20180628T140808Z
UID:1233-1560431700-1560440700@www.nottinghamschoolstrust.org.uk
SUMMARY:Mathematics Summer Network Meeting
DESCRIPTION:Organised by NCC Primary Teaching and Learning Team.  Here’s a link to the Eventbrite booking page: \nhttps://www.eventbrite.co.uk/e/mathematics-summer-network-tickets-46189558212 \n
URL:http://www.nottinghamschoolstrust.org.uk/event/mathematics-summer-network-meeting/
LOCATION:DoubleTree Hilton – Nottingham Gateway\, Nuthall Road\, Nottingham\, NG8 6AZ
END:VEVENT
END:VCALENDAR