BEGIN:VCALENDAR
VERSION:2.0
PRODID:-//Nottingham Schools Trust - ECPv4.6.26//NONSGML v1.0//EN
CALSCALE:GREGORIAN
METHOD:PUBLISH
X-WR-CALNAME:Nottingham Schools Trust
X-ORIGINAL-URL:http://www.nottinghamschoolstrust.org.uk
X-WR-CALDESC:Events for Nottingham Schools Trust
BEGIN:VEVENT
DTSTART;TZID=Europe/London:20190711T173000
DTEND;TZID=Europe/London:20190711T200000
DTSTAMP:20260423T050112
CREATED:20180912T092653Z
LAST-MODIFIED:20180912T092653Z
UID:1564-1562866200-1562875200@www.nottinghamschoolstrust.org.uk
SUMMARY:NQT Celebration Event
DESCRIPTION:For further information contact Mavis Bartley (Nottingham City Council)\, at mavis.bartley@nottinghamcity.gov.uk \n  \n
URL:http://www.nottinghamschoolstrust.org.uk/event/nqt-celebration-event/
LOCATION:Council House\, Old Market Square\, Nottingham\, NG1 2TD
END:VEVENT
END:VCALENDAR