BEGIN:VCALENDAR
VERSION:2.0
PRODID:-//Nottingham Schools Trust - ECPv4.6.26//NONSGML v1.0//EN
CALSCALE:GREGORIAN
METHOD:PUBLISH
X-WR-CALNAME:Nottingham Schools Trust
X-ORIGINAL-URL:http://www.nottinghamschoolstrust.org.uk
X-WR-CALDESC:Events for Nottingham Schools Trust
BEGIN:VEVENT
DTSTART;TZID=Europe/London:20190926T100000
DTEND;TZID=Europe/London:20190926T113000
DTSTAMP:20260425T102957
CREATED:20190211T132924Z
LAST-MODIFIED:20190903T090524Z
UID:2349-1569492000-1569497400@www.nottinghamschoolstrust.org.uk
SUMMARY:NST Member's Meeting
DESCRIPTION:This will follow on immediately after the Local Authority Headteacher Briefing\, starting at approximately 10.00am. \n
URL:http://www.nottinghamschoolstrust.org.uk/event/nst-members-meeting/
LOCATION:Nottingham Racecourse
END:VEVENT
BEGIN:VEVENT
DTSTART;TZID=Europe/London:20190926T130000
DTEND;TZID=Europe/London:20190926T150000
DTSTAMP:20260425T102957
CREATED:20190802T142417Z
LAST-MODIFIED:20190906T092247Z
UID:3163-1569502800-1569510000@www.nottinghamschoolstrust.org.uk
SUMMARY:School Review Briefing
DESCRIPTION:This session is for schools intending to book an NST review during 2019-20.  Sally Manz and Carol Norman (SIAs) will discuss expectations and process re school reviews.  This session will take place following the NST members meeting\, and is suitable for Headteachers and senior leaders in NST schools. \nA light lunch will be available at the start of the meeting. \nPlease book your place by emailing Emily.Humphreys@nottinghamschoolstrust.org.uk \n
URL:http://www.nottinghamschoolstrust.org.uk/event/school-review-briefing/
LOCATION:Nottingham Racecourse
END:VEVENT
END:VCALENDAR