BEGIN:VCALENDAR
VERSION:2.0
PRODID:-//Nottingham Schools Trust - ECPv4.6.26//NONSGML v1.0//EN
CALSCALE:GREGORIAN
METHOD:PUBLISH
X-WR-CALNAME:Nottingham Schools Trust
X-ORIGINAL-URL:http://www.nottinghamschoolstrust.org.uk
X-WR-CALDESC:Events for Nottingham Schools Trust
BEGIN:VEVENT
DTSTART;TZID=Europe/London:20200211T084500
DTEND;TZID=Europe/London:20200211T123000
DTSTAMP:20260425T033203
CREATED:20190916T105057Z
LAST-MODIFIED:20190916T105057Z
UID:3509-1581410700-1581424200@www.nottinghamschoolstrust.org.uk
SUMMARY:DSL Network Meeting
DESCRIPTION:Visit the Nottingham Schools website for further details / booking information: http://www.nottinghamschools.org.uk/leadership-and-management-support/partnerships/designated-safeguarding-lead-dsl-network/ \n
URL:http://www.nottinghamschoolstrust.org.uk/event/dsl-network-meeting-8/
LOCATION:Notts County FC\, Conference Suite
END:VEVENT
BEGIN:VEVENT
DTSTART;TZID=Europe/London:20200211T130000
DTEND;TZID=Europe/London:20200211T160000
DTSTAMP:20260425T033203
CREATED:20190827T131640Z
LAST-MODIFIED:20200121T151352Z
UID:3327-1581426000-1581436800@www.nottinghamschoolstrust.org.uk
SUMMARY:RQT Network Meeting
DESCRIPTION:To books a place\, please visit our Eventbrite page here: https://www.eventbrite.com/e/rqt-network-meeting-tickets-86491844435 \n
URL:http://www.nottinghamschoolstrust.org.uk/event/rqt-network-meeting-2/
LOCATION:Mellers Primary School
END:VEVENT
END:VCALENDAR