BEGIN:VCALENDAR
VERSION:2.0
PRODID:-//Nottingham Schools Trust - ECPv4.6.26//NONSGML v1.0//EN
CALSCALE:GREGORIAN
METHOD:PUBLISH
X-WR-CALNAME:Nottingham Schools Trust
X-ORIGINAL-URL:http://www.nottinghamschoolstrust.org.uk
X-WR-CALDESC:Events for Nottingham Schools Trust
BEGIN:VEVENT
DTSTART;TZID=Europe/London:20200213T093000
DTEND;TZID=Europe/London:20200213T120000
DTSTAMP:20260425T033221
CREATED:20200107T104303Z
LAST-MODIFIED:20200107T104303Z
UID:3814-1581586200-1581595200@www.nottinghamschoolstrust.org.uk
SUMMARY:Effective Monitoring in the EYFS - for Headteachers and Assessment Leads
DESCRIPTION:For further information or to book visit our Eventbrite page: https://www.eventbrite.com/e/effective-monitoring-in-the-eyfs-for-headteachers-and-assessment-leads-tickets-84140884651 \n
URL:http://www.nottinghamschoolstrust.org.uk/event/effective-monitoring-in-the-eyfs-for-headteachers-and-assessment-leads/
LOCATION:Nottingham Nursery School & Training Centre\, Denman Street West\, Radford\, Nottingham\, NG7 3AB
END:VEVENT
BEGIN:VEVENT
DTSTART;TZID=Europe/London:20200213T133000
DTEND;TZID=Europe/London:20200213T153000
DTSTAMP:20260425T033221
CREATED:20200107T104617Z
LAST-MODIFIED:20200107T104617Z
UID:3816-1581600600-1581607800@www.nottinghamschoolstrust.org.uk
SUMMARY:Understanding the EYFS and what your subject looks like for Literacy Leaders
DESCRIPTION:For further details or to book visit our Eventbrite page: https://www.eventbrite.com/e/understanding-the-eyfs-and-what-your-subject-looks-like-for-literacy-leaders-tickets-84143500475 \n
URL:http://www.nottinghamschoolstrust.org.uk/event/understanding-the-eyfs-and-what-your-subject-looks-like-for-literacy-leaders/
LOCATION:Nottingham Nursery School & Training Centre\, Denman Street West\, Radford\, Nottingham\, NG7 3AB
END:VEVENT
BEGIN:VEVENT
DTSTART;TZID=Europe/London:20200213T160000
DTEND;TZID=Europe/London:20200213T170000
DTSTAMP:20260425T033221
CREATED:20200107T104811Z
LAST-MODIFIED:20200107T104811Z
UID:3818-1581609600-1581613200@www.nottinghamschoolstrust.org.uk
SUMMARY:Understanding the EYFS for Foundation Subject Leaders
DESCRIPTION:For further details or to book visit our Eventbrite page: https://www.eventbrite.com/e/understanding-the-eyfs-for-foundation-subject-leaders-tickets-84144070179 \n
URL:http://www.nottinghamschoolstrust.org.uk/event/understanding-the-eyfs-for-foundation-subject-leaders/
LOCATION:Nottingham Nursery School & Training Centre\, Denman Street West\, Radford\, Nottingham\, NG7 3AB
END:VEVENT
END:VCALENDAR