BEGIN:VCALENDAR
VERSION:2.0
PRODID:-//Nottingham Schools Trust - ECPv4.6.26//NONSGML v1.0//EN
CALSCALE:GREGORIAN
METHOD:PUBLISH
X-WR-CALNAME:Nottingham Schools Trust
X-ORIGINAL-URL:http://www.nottinghamschoolstrust.org.uk
X-WR-CALDESC:Events for Nottingham Schools Trust
BEGIN:VEVENT
DTSTART;TZID=Europe/London:20200226T080000
DTEND;TZID=Europe/London:20200226T170000
DTSTAMP:20260425T021549
CREATED:20190827T132249Z
LAST-MODIFIED:20190827T132249Z
UID:3335-1582704000-1582736400@www.nottinghamschoolstrust.org.uk
SUMMARY:Voice Nottingham - Active Oracy Programme Day 2
DESCRIPTION:Venue details and timings to be confirmed. \n
URL:http://www.nottinghamschoolstrust.org.uk/event/voice-nottingham-active-oracy-programme-day-2/
END:VEVENT
BEGIN:VEVENT
DTSTART;TZID=Europe/London:20200226T130000
DTEND;TZID=Europe/London:20200226T170000
DTSTAMP:20260425T021549
CREATED:20190827T132133Z
LAST-MODIFIED:20200116T154402Z
UID:3333-1582722000-1582736400@www.nottinghamschoolstrust.org.uk
SUMMARY:Art Network Meeting
DESCRIPTION:Further information can be found on our Eventbrite booking page here: https://www.eventbrite.com/e/art-network-meeting-tickets-90159035101 \n  \n
URL:http://www.nottinghamschoolstrust.org.uk/event/art-network-meeting-5/
LOCATION:The Milford Academy\, Dungannon Road\, Clifton\, Nottingham\, NG11 9BT\, United Kingdom
END:VEVENT
END:VCALENDAR